BEGIN:VCALENDAR
VERSION:2.0
PRODID:-//Contratero//ES
CALSCALE:GREGORIAN
METHOD:PUBLISH
BEGIN:VEVENT
UID:SSCC PA 186/17@contratero.es
DTSTAMP:20260424T092230Z
DTSTART:20171204T235959
DTEND:20171205T005959
SUMMARY:Cierre: Implantación  de un sistema de información de apoy
DESCRIPTION:Implantación  de un sistema de información de apoyo a la Nefrología en Red del Servei de Salud de las Illes Balears\\n\\nOrganismo: Servicio de Salud de las Illes Balears\\n\\nVer en Contratero: https://contratero.es/contracts/SSCC PA 186/17
URL:https://contratero.es/contracts/SSCC PA 186/17
STATUS:CONFIRMED
BEGIN:VALARM
TRIGGER:-P1D
ACTION:DISPLAY
DESCRIPTION:Recordatorio: Implantación  de un sistema de
END:VALARM
END:VEVENT
END:VCALENDAR